BEGIN:VCALENDAR
VERSION:2.0
PRODID:spatie/icalendar-generator
DESCRIPTION:Events from Ontario Disability Employment Network
X-WR-CALDESC:Events from Ontario Disability Employment Network
REFRESH-INTERVAL;VALUE=DURATION:PT1440M
X-PUBLISHED-TTL:PT1440M
BEGIN:VTIMEZONE
TZID:America/Toronto
BEGIN:STANDARD
DTSTART:20251102T020000Z
TZOFFSETFROM:-0400
TZOFFSETTO:-0500
END:STANDARD
BEGIN:DAYLIGHT
DTSTART:20260308T020000Z
TZOFFSETFROM:-0500
TZOFFSETTO:-0400
END:DAYLIGHT
END:VTIMEZONE
BEGIN:VTIMEZONE
TZID:UTC
BEGIN:STANDARD
DTSTART:20250728T154732Z
TZOFFSETFROM:+0000
TZOFFSETTO:+0000
END:STANDARD
END:VTIMEZONE
BEGIN:VEVENT
UID:105-95
DTSTAMP:20260424T154732Z
SUMMARY:Breaking Down Barriers to Knowledge Exchange
LOCATION:Georgian College\, Barrie Campus  One Georgian Drive   Barrie  Ont
 ario  L4M 3X9
ORGANIZER;CN=Lila Jorgenson:MAILTO:ljorgenson@odenetwork.com
DTSTART;TZID=America/Toronto:20260330T100000
DTEND;TZID=America/Toronto:20260330T140000
X-ALT-DESC;FMTTYPE=TEXT/HTML:Join us in person for an interactive Real Xch
 angeevent focused on connection\, collaboration and shared learning.  
  What to expect:  An overview of the Real Xchange and opportunity for eng
 agement   A facilitated panel discussion exploring current local sector 
 challenges  Interactive breakout discussions focused on shared learnings 
 and solutions  Dedicated time to network with agencies across the Barrier
  area  Hot&amp;hellip\;
CATEGORIES:Jobs Ability Canada
URL;VALUE=URI:https://www.odenetwork.com/mc-events/breaking-down-barriers-t
 o-knowledge-exchange-2/
METHOD:PUBLISH
END:VEVENT
END:VCALENDAR